BEGIN:VCALENDAR
VERSION:2.0
PRODID:-//Femec - ECPv6.15.20//NONSGML v1.0//EN
CALSCALE:GREGORIAN
METHOD:PUBLISH
X-ORIGINAL-URL:https://mail.femec.es
X-WR-CALDESC:Eventos para Femec
REFRESH-INTERVAL;VALUE=DURATION:PT1H
X-Robots-Tag:noindex
X-PUBLISHED-TTL:PT1H
BEGIN:VTIMEZONE
TZID:Europe/Madrid
BEGIN:DAYLIGHT
TZOFFSETFROM:+0100
TZOFFSETTO:+0200
TZNAME:CEST
DTSTART:20220327T010000
END:DAYLIGHT
BEGIN:STANDARD
TZOFFSETFROM:+0200
TZOFFSETTO:+0100
TZNAME:CET
DTSTART:20221030T010000
END:STANDARD
BEGIN:DAYLIGHT
TZOFFSETFROM:+0100
TZOFFSETTO:+0200
TZNAME:CEST
DTSTART:20230326T010000
END:DAYLIGHT
BEGIN:STANDARD
TZOFFSETFROM:+0200
TZOFFSETTO:+0100
TZNAME:CET
DTSTART:20231029T010000
END:STANDARD
BEGIN:DAYLIGHT
TZOFFSETFROM:+0100
TZOFFSETTO:+0200
TZNAME:CEST
DTSTART:20240331T010000
END:DAYLIGHT
BEGIN:STANDARD
TZOFFSETFROM:+0200
TZOFFSETTO:+0100
TZNAME:CET
DTSTART:20241027T010000
END:STANDARD
BEGIN:DAYLIGHT
TZOFFSETFROM:+0100
TZOFFSETTO:+0200
TZNAME:CEST
DTSTART:20250330T010000
END:DAYLIGHT
BEGIN:STANDARD
TZOFFSETFROM:+0200
TZOFFSETTO:+0100
TZNAME:CET
DTSTART:20251026T010000
END:STANDARD
END:VTIMEZONE
BEGIN:VEVENT
DTSTART;TZID=Europe/Madrid:20240710T073000
DTEND;TZID=Europe/Madrid:20240710T093000
DTSTAMP:20260420T172659
CREATED:20231115T135209Z
LAST-MODIFIED:20231128T114720Z
UID:1286-1720596600-1720603800@mail.femec.es
SUMMARY:Jornada Empresarial ENEX en Mérida 10 Julio
DESCRIPTION:Jornada Empresarial ENEX en Mérida 10 Julio \nEstimado miembro de FEMEC:\nSe acerca la fecha de la nueva edición de los Encuentros de Negocio ENEX que celebramos en Mérida\, el miércoles 10 de julio (2024)\, en el Hotel Velada de 8h de la mañana a 9:30h. \nAntes de comenzar este encuentro empresarial\, tendremos un primer café para los que quieran aprovechar y hacer networking previo sobre las 7:30h. \nA partir de las 08:00h\, realizaremos una ronda de presentaciones de cada socio donde podrán nombrar a su empresa y explicar a qué se dedican. Para ello\, aconsejamos llevar tarjetas de visita. \nPara terminar\, todos los asistentes podrán charlar tranquilamente con quienes lo deseen\, en el desayuno que se servirá hasta las 9:30h. \n¡Inscríbete!
URL:https://mail.femec.es/enex/enex-10-07-24/
LOCATION:Salones Hotel Velada Mérida\, Av. Reina Sofia\, s/n\,\, Mérida\, Badajoz\, 06800\, España
CATEGORIES:Jornada Empresarial ENEX Mérida
ATTACH;FMTTYPE=image/png:https://mail.femec.es/wp-content/uploads/2023/11/7-Julio.png
ORGANIZER;CN="Iv%C3%A1n Moreno":MAILTO:coordinacion@femec.es
END:VEVENT
BEGIN:VEVENT
DTSTART;TZID=Europe/Madrid:20240612T073000
DTEND;TZID=Europe/Madrid:20240612T093000
DTSTAMP:20260420T172659
CREATED:20231115T135034Z
LAST-MODIFIED:20231128T114647Z
UID:1284-1718177400-1718184600@mail.femec.es
SUMMARY:Jornada Empresarial ENEX en Mérida 12 Junio
DESCRIPTION:Jornada Empresarial ENEX en Mérida 12 Junio \nEstimado miembro de FEMEC:\nSe acerca la fecha de la nueva edición de los Encuentros de Negocio ENEX que celebramos en Mérida\, el miércoles 12 de junio (2024)\, en el Hotel Velada de 8h de la mañana a 9:30h. \nAntes de comenzar este encuentro empresarial\, tendremos un primer café para los que quieran aprovechar y hacer networking previo sobre las 7:30h. \nA partir de las 08:00h\, realizaremos una ronda de presentaciones de cada socio donde podrán nombrar a su empresa y explicar a qué se dedican. Para ello\, aconsejamos llevar tarjetas de visita. \nPara terminar\, todos los asistentes podrán charlar tranquilamente con quienes lo deseen\, en el desayuno que se servirá hasta las 9:30h. \n¡Inscríbete!
URL:https://mail.femec.es/enex/enex-12-06-24/
LOCATION:Salones Hotel Velada Mérida\, Av. Reina Sofia\, s/n\,\, Mérida\, Badajoz\, 06800\, España
CATEGORIES:Jornada Empresarial ENEX Mérida
ATTACH;FMTTYPE=image/png:https://mail.femec.es/wp-content/uploads/2023/11/6-Junio.png
ORGANIZER;CN="Iv%C3%A1n Moreno":MAILTO:coordinacion@femec.es
END:VEVENT
BEGIN:VEVENT
DTSTART;TZID=Europe/Madrid:20240508T073000
DTEND;TZID=Europe/Madrid:20240508T093000
DTSTAMP:20260420T172659
CREATED:20231115T134625Z
LAST-MODIFIED:20231128T114616Z
UID:1282-1715153400-1715160600@mail.femec.es
SUMMARY:Jornada Empresarial ENEX en Mérida 8 Mayo
DESCRIPTION:Jornada Empresarial ENEX en Mérida 8 Mayo \nEstimado miembro de FEMEC:\nSe acerca la fecha de la nueva edición de los Encuentros de Negocio ENEX que celebramos en Mérida\, el miércoles 8 de mayo (2024)\, en el Hotel Velada de 8h de la mañana a 9:30h. \nAntes de comenzar este encuentro empresarial\, tendremos un primer café para los que quieran aprovechar y hacer networking previo sobre las 7:30h. \nA partir de las 08:00h\, realizaremos una ronda de presentaciones de cada socio donde podrán nombrar a su empresa y explicar a qué se dedican. Para ello\, aconsejamos llevar tarjetas de visita. \nPara terminar\, todos los asistentes podrán charlar tranquilamente con quienes lo deseen\, en el desayuno que se servirá hasta las 9:30h. \n¡Inscríbete!
URL:https://mail.femec.es/enex/enex-08-05-24/
LOCATION:Salones Hotel Velada Mérida\, Av. Reina Sofia\, s/n\,\, Mérida\, Badajoz\, 06800\, España
CATEGORIES:Jornada Empresarial ENEX Mérida
ATTACH;FMTTYPE=image/png:https://mail.femec.es/wp-content/uploads/2023/11/5-Mayo.png
ORGANIZER;CN="Iv%C3%A1n Moreno":MAILTO:coordinacion@femec.es
END:VEVENT
BEGIN:VEVENT
DTSTART;TZID=Europe/Madrid:20240410T073000
DTEND;TZID=Europe/Madrid:20240410T093000
DTSTAMP:20260420T172659
CREATED:20231115T134441Z
LAST-MODIFIED:20231128T114526Z
UID:1280-1712734200-1712741400@mail.femec.es
SUMMARY:Jornada Empresarial ENEX en Mérida 10 Abril
DESCRIPTION:Jornada Empresarial ENEX en Mérida 10 Abril \nEstimado miembro de FEMEC:\nSe acerca la fecha de la nueva edición de los Encuentros de Negocio ENEX que celebramos en Mérida\, el miércoles 10 de abril (2024)\, en el Hotel Velada de 8h de la mañana a 9:30h. \nAntes de comenzar este encuentro empresarial\, tendremos un primer café para los que quieran aprovechar y hacer networking previo sobre las 7:30h. \nA partir de las 08:00h\, realizaremos una ronda de presentaciones de cada socio donde podrán nombrar a su empresa y explicar a qué se dedican. Para ello\, aconsejamos llevar tarjetas de visita. \nPara terminar\, todos los asistentes podrán charlar tranquilamente con quienes lo deseen\, en el desayuno que se servirá hasta las 9:30h. \n¡Inscríbete!
URL:https://mail.femec.es/enex/enex-10-04-24/
LOCATION:Salones Hotel Velada Mérida\, Av. Reina Sofia\, s/n\,\, Mérida\, Badajoz\, 06800\, España
CATEGORIES:Jornada Empresarial ENEX Mérida
ATTACH;FMTTYPE=image/png:https://mail.femec.es/wp-content/uploads/2023/11/4-Abril.png
ORGANIZER;CN="Iv%C3%A1n Moreno":MAILTO:coordinacion@femec.es
END:VEVENT
BEGIN:VEVENT
DTSTART;TZID=Europe/Madrid:20240313T073000
DTEND;TZID=Europe/Madrid:20240313T093000
DTSTAMP:20260420T172659
CREATED:20231115T134243Z
LAST-MODIFIED:20231128T114437Z
UID:1278-1710315000-1710322200@mail.femec.es
SUMMARY:Jornada Empresarial ENEX en Mérida 13 Marzo
DESCRIPTION:Jornada Empresarial ENEX en Mérida 13 Marzo \nEstimado miembro de FEMEC:\nSe acerca la fecha de la nueva edición de los Encuentros de Negocio ENEX que celebramos en Mérida\, el miércoles 13 de marzo (2024)\, en el Hotel Velada de 8h de la mañana a 9:30h. \nAntes de comenzar este encuentro empresarial\, tendremos un primer café para los que quieran aprovechar y hacer networking previo sobre las 7:30h. \nA partir de las 08:00h\, realizaremos una ronda de presentaciones de cada socio donde podrán nombrar a su empresa y explicar a qué se dedican. Para ello\, aconsejamos llevar tarjetas de visita. \nPara terminar\, todos los asistentes podrán charlar tranquilamente con quienes lo deseen\, en el desayuno que se servirá hasta las 9:30h. \n¡Inscríbete!
URL:https://mail.femec.es/enex/enex-13-03-24/
LOCATION:Salones Hotel Velada Mérida\, Av. Reina Sofia\, s/n\,\, Mérida\, Badajoz\, 06800\, España
CATEGORIES:Jornada Empresarial ENEX Mérida
ATTACH;FMTTYPE=image/png:https://mail.femec.es/wp-content/uploads/2023/11/3-Marzo.png
ORGANIZER;CN="Iv%C3%A1n Moreno":MAILTO:coordinacion@femec.es
END:VEVENT
BEGIN:VEVENT
DTSTART;TZID=Europe/Madrid:20240214T073000
DTEND;TZID=Europe/Madrid:20240214T093000
DTSTAMP:20260420T172659
CREATED:20231115T133548Z
LAST-MODIFIED:20231128T114410Z
UID:1275-1707895800-1707903000@mail.femec.es
SUMMARY:Jornada Empresarial ENEX en Mérida 14 Febrero
DESCRIPTION:Jornada Empresarial ENEX en Mérida 14 Febrero \nEstimado miembro de FEMEC:\nSe acerca la fecha de la nueva edición de los Encuentros de Negocio ENEX que celebramos en Mérida\, el miércoles 14 de febrero (2024)\, en el Hotel Velada de 8h de la mañana a 9:30h. \nAntes de comenzar este encuentro empresarial\, tendremos un primer café para los que quieran aprovechar y hacer networking previo sobre las 7:30h. \nA partir de las 08:00h\, realizaremos una ronda de presentaciones de cada socio donde podrán nombrar a su empresa y explicar a qué se dedican. Para ello\, aconsejamos llevar tarjetas de visita. \nPara terminar\, todos los asistentes podrán charlar tranquilamente con quienes lo deseen\, en el desayuno que se servirá hasta las 9:30h. \n¡Inscríbete!
URL:https://mail.femec.es/enex/enex-14-02-24/
LOCATION:Salones Hotel Velada Mérida\, Av. Reina Sofia\, s/n\,\, Mérida\, Badajoz\, 06800\, España
CATEGORIES:Jornada Empresarial ENEX Mérida
ATTACH;FMTTYPE=image/png:https://mail.femec.es/wp-content/uploads/2023/11/2-Febrero.png
ORGANIZER;CN="Iv%C3%A1n Moreno":MAILTO:coordinacion@femec.es
END:VEVENT
BEGIN:VEVENT
DTSTART;TZID=Europe/Madrid:20240124T190000
DTEND;TZID=Europe/Madrid:20240124T210000
DTSTAMP:20260420T172659
CREATED:20231128T090614Z
LAST-MODIFIED:20240118T115010Z
UID:1508-1706122800-1706130000@mail.femec.es
SUMMARY:Convocatoria Junta Directiva nº46 - 24 de enero
DESCRIPTION:El contenido esta protegido.
URL:https://mail.femec.es/enex/junta-directiva-24-01-24/
LOCATION:A de Arco\, C. Trajano\, 8\, Mérida\, Badajoz\, 06800\, España
CATEGORIES:Reunión Junta Directiva
ORGANIZER;CN="Iv%C3%A1n Moreno":MAILTO:coordinacion@femec.es
END:VEVENT
BEGIN:VEVENT
DTSTART;TZID=Europe/Madrid:20240110T073000
DTEND;TZID=Europe/Madrid:20240110T093000
DTSTAMP:20260420T172659
CREATED:20231115T083059Z
LAST-MODIFIED:20240118T111556Z
UID:1268-1704871800-1704879000@mail.femec.es
SUMMARY:Jornada Empresarial ENEX en Mérida 10 Enero
DESCRIPTION:Jornada Empresarial ENEX en Mérida 10 Enero \nEstimado miembro de FEMEC:\nSe acerca la fecha de la nueva edición de los Encuentros de Negocio ENEX que celebramos en Mérida\, el miércoles 10 de enero (2024)\, en el Hotel Velada de 8h de la mañana a 9:30h. \nAntes de comenzar este encuentro empresarial\, tendremos un primer café para los que quieran aprovechar y hacer networking previo sobre las 7:30h. \nA partir de las 08:00h\, realizaremos una ronda de presentaciones de cada socio donde podrán nombrar a su empresa y explicar a qué se dedican. Para ello\, aconsejamos llevar tarjetas de visita. \nSe comentará la planificación sobre la colaboración de FEMEC con el instituto IES Albarregas. \nPosteriormente\, tendremos la ponencia de Don Javier Peinado\, presidente de COEBA y secretario general de la CREEX\, que nos hará una presentación de la nueva situación impositiva que afecta a las empresas y\, al mismo tiempo\, un adelante de las modificaciones que se prevean a corto plazo con respecto a normas laborales\, salario mínimo interprofesional\, cotizaciones empresariales\, previsiones del Euribor y las perspectivas de crecimiento empresarial a nivel regional\, nacional e internacional. \nSe abrirá\, posteriormente\, un amplio debate con Javier Peinado\, cuando se desee plantear o solicitar. \nPara terminar\, todos los asistentes podrán charlar tranquilamente con quienes lo deseen\, en el desayuno que se servirá hasta las 9:30h. \n¡Inscríbete!\n  \nVer: Resumen de la Reunión anterior (13-12-2023)\nVer: Resumen de la Reunión (10-01-2024)\nVer: Presentación de la Reunión anterior (13-12-2023)
URL:https://mail.femec.es/enex/enex-10-01-24/
LOCATION:Salones Hotel Velada Mérida\, Av. Reina Sofia\, s/n\,\, Mérida\, Badajoz\, 06800\, España
CATEGORIES:Jornada Empresarial ENEX Mérida
ATTACH;FMTTYPE=image/png:https://mail.femec.es/wp-content/uploads/2023/11/1-Enero.png
ORGANIZER;CN="Iv%C3%A1n Moreno":MAILTO:coordinacion@femec.es
END:VEVENT
BEGIN:VEVENT
DTSTART;TZID=Europe/Madrid:20231213T073000
DTEND;TZID=Europe/Madrid:20231213T093000
DTSTAMP:20260420T172659
CREATED:20231011T195354Z
LAST-MODIFIED:20231220T153031Z
UID:668-1702452600-1702459800@mail.femec.es
SUMMARY:ENEX en Mérida 13 Diciembre
DESCRIPTION:ENEX en Mérida 13 Diciembre\nEstimado miembro de FEMEC:\nSe acerca la fecha de la nueva edición de los Encuentros de Negocio ENEX que celebramos en Mérida\, este miércoles 13 de diciembre\, en el Hotel Velada de 8h de la mañana a 9:30h. \nAntes de comenzar este encuentro empresarial\, tendremos un primer café para los que quieran aprovechar y hacer networking previo sobre las 7:30h. \nA partir de las 08:00h\, realizaremos una ronda de presentaciones de cada socio donde podrán nombrar a su empresa y explicar a qué se dedican. Para ello\, aconsejamos llevar tarjetas de visita. \nDesde la Oficina Acelera PYME de CREEX: Ayudas para la digitalización de las empresas. \nInterviene: Técnica de la Oficina Acelera Pyme de CREEX\, Consuelo Masa Gragera.\nPara terminar\, todos los asistentes podrán charlar tranquilamente con quienes lo deseen\, en el desayuno que se servirá hasta las 9:30h. \n¡Resumen Reunión 13-12-2023!
URL:https://mail.femec.es/enex/jornada-empresarial-enex-en-merida-13-12-23/
LOCATION:Salones Hotel Velada Mérida\, Av. Reina Sofia\, s/n\,\, Mérida\, Badajoz\, 06800\, España
CATEGORIES:Jornada Empresarial ENEX Mérida
ATTACH;FMTTYPE=image/png:https://mail.femec.es/wp-content/uploads/2023/10/13122023.png
ORGANIZER;CN="Iv%C3%A1n Moreno":MAILTO:coordinacion@femec.es
END:VEVENT
BEGIN:VEVENT
DTSTART;TZID=Europe/Madrid:20231127T190000
DTEND;TZID=Europe/Madrid:20231127T203000
DTSTAMP:20260420T172659
CREATED:20231115T151142Z
LAST-MODIFIED:20231124T081433Z
UID:1304-1701111600-1701117000@mail.femec.es
SUMMARY:Reunión Junta Directiva 27 Noviembre 2023
DESCRIPTION:El contenido esta protegido.
URL:https://mail.femec.es/enex/27-11-23/
LOCATION:A de Arco\, C. Trajano\, 8\, Mérida\, Badajoz\, 06800\, España
CATEGORIES:Reunión Junta Directiva
ORGANIZER;CN="Iv%C3%A1n Moreno":MAILTO:coordinacion@femec.es
END:VEVENT
BEGIN:VEVENT
DTSTART;TZID=Europe/Madrid:20231108T073000
DTEND;TZID=Europe/Madrid:20231108T093000
DTSTAMP:20260420T172659
CREATED:20231009T085007Z
LAST-MODIFIED:20231115T132252Z
UID:611-1699428600-1699435800@mail.femec.es
SUMMARY:ENEX en Mérida 8 noviembre
DESCRIPTION:ENEX en Mérida 8 noviembre\nEstimado miembro de FEMEC:\n\nHoy\, en nuestra reunión ENEX en Mérida 8 noviembre lamentablemente\, nuestro presidente no pudo asistir a la reunión debido a compromisos laborales. En su ausencia\, Carlos Alberto Castaño asumió con éxito el liderazgo\, proporcionando una visión general de la situación. Con gracia y profesionalismo\, dio la bienvenida a nuestros invitados.\nLa reunión continuó con la participación activa de todos los asistentes\, quienes tuvieron la oportunidad de realizar presentaciones detalladas sobre sus respectivas empresas y las diversas actividades que llevan a cabo. Cada uno compartió información relevante de su actividad.\nLa reunión continuo con nuestro primer invitado\, Jesús Prieto\, representante del banco BBVA\, tomó la palabra para presentar un producto destacado diseñado exclusivamente para FEMEC. Con entusiasmo\, compartió los detalles de una cuenta especial destinada a empresarios y sus empleados. Este producto viene respaldado por un convenio exclusivo que busca beneficiar de manera única a los miembros de nuestra organización.\nSu presentación : presentación1 \, presentacion2\nEl segundo invitado se Trata de Rafael Ybarra \,CEO de Ker Advisory\, desempeñó un papel fundamental al proporcionar valiosa orientación sobre la gestión empresarial. Detalló métodos efectivos para navegar por los desafíos actuales\, brindando perspectivas clave sobre cómo abordar diversas situaciones. Además\, compartió generosamente métodos y recursos para ayudarnos a tomar decisiones informadas. Destacó el convenio exclusivo entre Ker Advisory y FEMEC\, subrayando las ventajas y facilidades que ofrece a todos los miembros de nuestra organización. Esta presentación consolidó aún más la colaboración beneficiosa entre ambas partes.\nSu presentación: Ker – Presentación Enex\nPor ultimo se comento la inquietud compartida respecto a la falta de resolución a nivel nacional por parte del Gobierno. Se destacó la necesidad de obtener claridad y perspectivas que brinden tranquilidad al ámbito empresarial. Las preocupaciones se centraron en la importancia de contar con un marco político y económico estable que permita a las empresas planificar y operar con confianza.\n\n\n\nDescargar PDF
URL:https://mail.femec.es/enex/jornada-empresarial-enex-en-merida-8-11-23/
LOCATION:Salones Hotel Velada Mérida\, Av. Reina Sofia\, s/n\,\, Mérida\, Badajoz\, 06800\, España
CATEGORIES:Jornada Empresarial ENEX Mérida
ATTACH;FMTTYPE=image/png:https://mail.femec.es/wp-content/uploads/2023/10/Banda-fotos.png
ORGANIZER;CN="Iv%C3%A1n Moreno":MAILTO:coordinacion@femec.es
END:VEVENT
BEGIN:VEVENT
DTSTART;TZID=Europe/Madrid:20231011T073000
DTEND;TZID=Europe/Madrid:20231011T093000
DTSTAMP:20260420T172659
CREATED:20231002T181443Z
LAST-MODIFIED:20231018T082316Z
UID:413-1697009400-1697016600@mail.femec.es
SUMMARY:ENEX en Mérida 11 octubre
DESCRIPTION:Resumen de la Reunión:\n\nEl presidente inicia la reunión con un cordial saludo a todos los presentes y especialmente a Dª Pilar Coslado que viene en representación e ENEX Badajoz y de CREEX. Comenta el presidente los siguientes aspectos:\n\nEl comercio experimenta una disminución debido a la prolongada ola de calor\, que dificulta la transición hacia la temporada invernal y las festividades navideñas.\nAmazon pospone\, al menos dos años\, sus operaciones en Badajoz\, resultando en la pérdida de más de 2.000 empleos previamente anunciados.\nLa constructora que estaba creando diversos bloques de viviendas en Badajoz ha paralizado las obras. Se supone que las perspectivas negativas de demanda de viviendas puede ser la causa.\nEl revuelo actual\, generado como resultado de la situación\, tiene un impacto negativo en el comercio local. Además\, destaca la política de facilitación de inversiones a empresas extranjeras en la región. La interacción de estos factores subraya la importancia de analizar la relación entre los intereses comerciales y las políticas de inversión en la localidad\, con el objetivo de abordar las preocupaciones comerciales y mantener un equilibrio adecuado en el desarrollo económico de la región.\n¡Estamos en guerra! La actual situación de hostilidades en Oriente Medio\, sin duda\, influye en todos los sectores empresariales\, dado que la actual implicación de Siria y eventual participación de Irán en el conflicto entre Israel y Palestina podría resultar en un aumento en el precio del crudo\, con repercusiones en la economía española.\nEspaña continúa exportando armamento a Ucrania\, lo que implica la asignación de una parte significativa de los fondos europeos a esta iniciativa reduciendo los fondos para el desarrollo de otros países.\n\n\nHoy hemos recibido la distinguida visita de la Sra. Pilar Coslado\, miembro de la Junta Directiva de la CREEX\, a quien agradecemos su presencia. Durante su intervención\, la Sra. Coslado elogió el compromiso y la labor de nuestra asociación\, y nos extendió una cordial invitación a participar en seminarios sobre diálogo social y a aprovechar oportunidades de subvención. Asimismo\, nos extendió una invitación para asistir a un evento organizado por su empresa\, centrado en el empoderamiento de la mujer empresaria\, el cual contará con destacadas figuras femeninas\, entre las que destaca Ágata Ruiz de la Prada.\nSe inicia una presentación de todas las empresas asistentes con detalle de sus actividades. Durante este proceso se ha abierto un debate muy interesante acerca del amplio desarrollo actual del sector turismo en la ciudad de Mérida\, destacando la necesidad de crecer también industrialmente. Como resultado de la discusión\, se ha llegado a la conclusión de que\, si bien el turismo puede ser un nicho de negocio viable\, no se le debe dar absoluta prioridad ya que puede ser un sector muy afectado en caso de crisis económica por no ser un gasto de “necesidad” en las familias.\nHoy\, experimentamos una destacada contribución por parte de nuestro estimado miembro\, el Sr. David Yarritu. Durante su exposición\, el Sr. Yarritu ofreció una detallada visión de los seguros de responsabilidad civil para empresas y brindó información sobre cómo salvaguardar nuestros intereses frente a diversas circunstancias que pueden darse en nuestros negocios con los empleados\, clientes\, vehículos\, instalaciones y sobre todo y muy importante el Seguro de Directivos que nos puede cubrir en los muchos casos que nos pueden suceder y en los que nos cargarán la responsabilidad\, proporcionando ejemplos ilustrativos para su mejor comprensión.\nPodéis acceder a la presentación a través de la siguiente diapositiva: RC para FEMEC\n\n  \n\nLos comentarios sobre la reunión de hoy han sido muy satisfactorios por el amplio debate sobre los temas entre los miembros de la asociación\, así como el conocimiento impartido por el ponente sobre los seguros que cubren los riesgos nuestros como empresarios. Se anima a seguir con estas interesantes ponencias que a buen seguro nos ayudaran a gestionar mejor nuestros negocios.\nSe realiza un networking entre todos los presentes durante el desayuno.\nLa reunión concluye y la sesión se da por finalizada a las 10:15 horas.\n\n			\n						Descargar Documento
URL:https://mail.femec.es/enex/jornada-empresarial-enex-en-merida-11-10-23/
LOCATION:Salones Hotel Velada Mérida\, Av. Reina Sofia\, s/n\,\, Mérida\, Badajoz\, 06800\, España
CATEGORIES:Jornada Empresarial ENEX Mérida
ATTACH;FMTTYPE=image/png:https://mail.femec.es/wp-content/uploads/2023/10/Copia-de-Banda-fotos.png
ORGANIZER;CN="Iv%C3%A1n Moreno":MAILTO:coordinacion@femec.es
END:VEVENT
BEGIN:VEVENT
DTSTART;TZID=Europe/Madrid:20230913T073000
DTEND;TZID=Europe/Madrid:20230913T093000
DTSTAMP:20260420T172659
CREATED:20231003T102843Z
LAST-MODIFIED:20231018T082025Z
UID:536-1694590200-1694597400@mail.femec.es
SUMMARY:ENEX en Mérida 13 septiembre
DESCRIPTION:Asuntos Tratados\n\nComenta el Presidente la situación financiera del país con una subida más de los tipos de interés y de los costes hipotecarios que conlleva. Esto está suponiendo una reducción de compras en vivienda nueva.\nSe está detectando una alta tasa de despidos en las pequeña y medianas empresas debido a la fiscalidad del país y de cómo ésta seguirá subiendo en los próximos meses. También se comentó la falta de competitividad y de responsabilidad de algunos trabajadores.\nTodos los asistentes realizan una presentación de su empresa y de las actividades que realizan\, siendo muy interesante la participación de 3 invitados con empresas muy jóvenes\, pero altamente tecnológicas que despiertan el interés del resto. Algunas de ellas muestran interés en incorporarse a FEMEC.\nEn el dialogo sobre el sector de la construcción se ha centrado en las ralentizaciones de las obras debido a la falta de personal en las empresas y de profesionales cualificados. Así como una demanda a la Administración Extremeña para que implemente las ayudas a los compradores de vivienda protegida.\n¡Mérida es Turismo! Se ha recalcado en anteriores comunicaciones de FEMEC que sube el ocio y el turismo en Mérida\, lo cual aporta beneficios al conjunto de empresarios de la ciudad.\nManifiestan los presentes su preocupación por la falta de resolución sobre el Gobierno a nivel nacional y que de tranquilidad y perspectivas al ámbito empresarial. A continuación\, se informó de que sigue habiendo liquidez en los fondos “Next Generatión”.\nSobre el gobierno autonómico se comenta que cumplen\, de momento\, con lo prometido en cuanto a la bajada de los impuestos a los autónomos\, el impuesto de patrimonio y a algunos tramos del IRPF y varias medidas más que se comentaron.\n\nPonencia Especial\nNuestro socio David Carretero de Cuenta+ Asesoría nos hace la presentación prevista sobre lA (Inteligencia Artificial)\, resultó un tema muy interesante que despertó el interés de los asociados presentes y se abrió un amplio debate sobre las aplicaciones prácticas para las pequeñas y medianas empresas y de cómo obtener rendimiento de la misma. Otro debate que se abrió sobre la IA es que actualmente se desconocen las medidas legales o comerciales de su uso y de cómo utilizarlas en el ámbito laboral. \nPodéis verla desde el siguiente enlace: https://n9.cl/cuentamas_inteligen_artificial \nRuegos y Preguntas\n\nSe comento la posibilidad de obtener seguros legales para empresas.\nSe propuso preguntar a la CREEX sobre la incentiva en la promoción de viviendas nuevas.
URL:https://mail.femec.es/enex/jornada-empresarial-enex-en-merida-2/
LOCATION:Salones Hotel Velada Mérida\, Av. Reina Sofia\, s/n\,\, Mérida\, Badajoz\, 06800\, España
CATEGORIES:Jornada Empresarial ENEX Mérida
ATTACH;FMTTYPE=image/jpeg:https://mail.femec.es/wp-content/uploads/2023/10/Mesa-de-trabajo-1femec-1-scaled.jpg
ORGANIZER;CN="Iv%C3%A1n Moreno":MAILTO:coordinacion@femec.es
END:VEVENT
END:VCALENDAR